 BEGIN:VCALENDAR
VERSION:2.0
PRODID:-//Promoeventi Sport - ECPv6.15.20//NONSGML v1.0//EN
CALSCALE:GREGORIAN
METHOD:PUBLISH
X-WR-CALNAME:Promoeventi Sport
X-ORIGINAL-URL:https://www.promoeventisport.it
X-WR-CALDESC:Eventi per Promoeventi Sport
REFRESH-INTERVAL;VALUE=DURATION:PT1H
X-Robots-Tag:noindex
X-PUBLISHED-TTL:PT1H
BEGIN:VTIMEZONE
TZID:Europe/Rome
BEGIN:DAYLIGHT
TZOFFSETFROM:+0100
TZOFFSETTO:+0200
TZNAME:CEST
DTSTART:20210328T010000
END:DAYLIGHT
BEGIN:STANDARD
TZOFFSETFROM:+0200
TZOFFSETTO:+0100
TZNAME:CET
DTSTART:20211031T010000
END:STANDARD
BEGIN:DAYLIGHT
TZOFFSETFROM:+0100
TZOFFSETTO:+0200
TZNAME:CEST
DTSTART:20220327T010000
END:DAYLIGHT
BEGIN:STANDARD
TZOFFSETFROM:+0200
TZOFFSETTO:+0100
TZNAME:CET
DTSTART:20221030T010000
END:STANDARD
BEGIN:DAYLIGHT
TZOFFSETFROM:+0100
TZOFFSETTO:+0200
TZNAME:CEST
DTSTART:20230326T010000
END:DAYLIGHT
BEGIN:STANDARD
TZOFFSETFROM:+0200
TZOFFSETTO:+0100
TZNAME:CET
DTSTART:20231029T010000
END:STANDARD
END:VTIMEZONE
BEGIN:VEVENT
DTSTART;VALUE=DATE:20221008
DTEND;VALUE=DATE:20221010
DTSTAMP:20260426T004428
CREATED:20220927T145921Z
LAST-MODIFIED:20220927T150623Z
UID:2624-1665208800-1665295199@www.promoeventisport.it
SUMMARY:ILombardia 2022
DESCRIPTION:[vc_row][vc_column][vc_single_image image=”2486″ img_size=”medium” alignment=”center” onclick=”custom_link” img_link_target=”_blank” css_animation=”fadeIn” link=”http://www.ilombardia.it/” css=”.vc_custom_1632319588641{margin-bottom: 50px !important;}”][vc_column_text css=”.vc_custom_1664290504202{margin-bottom: 50px !important;}”] \nBergamo disegna la prima parte de il Lombardia 2022 nella gara di addio di Vincenzo Nibali\nPresentata questa mattina a Como la 116esima edizione della competizione delle “foglie morte”. Sabato 8 ottobre scatta dal centro di Bergamo e prima di raggiungere le salite lariane e l’arrivo a Como dopo 253 chilometri\, il gruppo andrà a caccia dell’ultima prova monumento della stagione affrontando un percorso inedito con 6 delle più belle salite della provincia bergamasca nei primi 150 chilometri del tracciato: Val Rossa dal lago d’Endine\, il passo di Ganda\, il paese di Dossena\, la Val Taleggio e il colle di Berbenno. \nDopo averlo vinto due volte\, Vincenzo Nibali chiuderà la carriera con Il Lombardia 2022\, e con lui anche Alejandro Valverde. \nComo\, 27.09.2022 – Da quasi una dozzina d’anni le città di Bergamo e Como viaggiano in tandem nell’organizzazione de Il Lombardia\, un connubio che si ripeterà anche il prossimo 8 ottobre per l’edizione numero 116 valida come quinta e ultima prova monumento del ciclismo su strada. \nNelle ultime undici edizioni la Città dei Mille è stata sede di partenza per otto volte\, e questo ha consentito ai bergamaschi di respirare aria di grande ciclismo nelle ore che precedono il via della gara.  \nDa sinistra: Paolo Frigerio (AS Canturino 1902)\, Giorgia Gandossi (Ass. Sport Provincia di Bergamo)\, Mario Vegni (RCS Sport)\, Vincenzo Nibali (vincitore Il Lombardia 2015 e 2017)\, Alessandro Rapinese (Sindaco di Como)\, Alessandra Locatelli (Assessore Regione Lombardia)\, Giovanni Bettineschi (Promoeventi Sport)© LDL COMeta – Carlo Brena \n  \nUn abbraccio verso i protagonisti della disciplina che si ripeterà anche il secondo sabato di ottobre e che riserverà ai corridori in gara un percorso inedito per la corsa delle foglie morte. Infatti\, una volta lasciato il centro di Bergamo alle 10.00 del mattino\, il “gruppo” affronterà alcune tra le ascese più belle della provincia orobica\, in un continuo “mangia e bevi” lungo i primi 151 chilometri di corsa. Dopo 30 chilometri dal via ecco il primo strappo al Forcellino di Bianzano (3 km al 10%) che immette nella Val Rossa\, preludio della Val Seriana che porta all’attacco di Ganda (da Gazzaniga 12\,3 km al 5\,4%). La successiva discesa verso Serina spalanca le parte alla terza ascesa\, quella che conduce a Dossena (7\,3 km al 3\,8%) già protagonista nell’edizione 2011 del Giro d’Italia.  \nLa discesa porta i partecipanti in Val Brembana\, e dopo aver passato San Giovanni Bianco il gruppo entrerà nel canyon della Val Taleggio fino all’accoppiata delle salite di Olda e Forcella di Bura nello spazio di una decina di chilometri. Da qui discesa a tutta verso Brembilla per l’ultima salita bergamasca (4\,6 km al 6%) al Colle di Berbenno e la successiva calata verso Caprino Bergamasco\, anticamera della Provincia di Lecco. \n  \n«In questa occasione mi trovo come ambasciatrice di Bergamo e delle amministrazioni della nostra terra a sottolineare l’attaccamento che abbiamo verso Il Lombardia – ha sottolineato Giorgia Gandossi\, Assessore allo Sport della Provincia di Bergamo – anche per la ricaduta turistica che l’evento ha sul territorio bergamasco\, storicamente legato al ciclismo di alto livello». \nLe ha fatto eco l’uomo e l’organizzazione che dal 2004 affianca RCS Sport nell’organizzazione degli eventi ciclistici in terra orobica: «Con gli amici di Como stiamo pedalando in tandem dal 2012 e questo decennio di collaborazione dimostra una volta ancora\, come il lavoro di squadra premi il risultato finale – commenta Giovanni Bettineschi\, presidente di Promoeventi Sport\, referente locale per gli eventi RCS Sport –  e sabato 8 ottobre\, mentre il foliage ammanterà le nostre colline e montagne\, milioni di persone assisteranno in televisione a una gara avvincente sin dalle prime battute su alcune salite iconiche della nostra provincia: una grande vetrina per il territorio». \nNell’edizione che adotta il claim “Dove la gloria si trasforma in leggenda”\, Il Lombardia 2022 sarà la gara con cui Vincenzo Nibali chiuderà la carriera: «E’ la competizione che ho amato sin dalle prime stagioni da professionista: qui ho vinto due volte\, su queste strade spesso mi alleno – ha commentato lo Squalo dello stretto – e dopo aver ritrovato la gamba alla Vuelta non nascondo che vorrei provarci…». Che strategia di gara ha studiato per l’8 ottobre? «E’ un percorso anomalo che si dall’inizio ha molte salite\, quindi difficile stabilire una tattica a priori\, ma mi sento di dire che qualcosa succederà già dal Ghisallo e il Cittiglio sarà determinante» sottolinea Nibali. E a chi gli chiede se ci sarà tristezza per questo addio\, il siciliano non ha dubbi: «Ci sarà un po’ di malinconia\, ma non tristezza\, e soprattutto avrò con me tutti i miei familiari e gli amici di una vita». \n  \n A fianco di Nibali anche lo spagnolo Alejandro Valverde completerà la sua ultima gara\, mentre il fresco iridato belga Remco Evenepoel non sarà presente perché già impegnato con un altro impegno: il matrimonio. \nInfine uno sguardo al futuro: la prima parte del tracciato disegnato nella bergamasca ha suggerito una ipotesi di adozione dello stesso itinerario per la tappa del Giro d’Italia 2023 che vedrà protagonista la Città dei Mille. Il direttore di gara Mario Vegni non si è sottratto alla risposta: «Diciamo che stiamo pensando a un percorso che si ispira a Il Lombardia dello scorso anno…di più non possiamo dire».  \nMa prima di pensare alla corsa rosa\, l’appuntamento è fissato per sabato 8 ottobre con il via della 116esima edizione de Il Lombardia dal cuore di Bergamo. \nPer informazioni: www.ilombardia.it – www.promoeventisport.it \nOrganizzazione Il Lombardia: \nRCS Sport \n  \nComitato Organizzatore Locale di Bergamo: \nPromoeventi Sport \nPiazza Risorgimento\, 1/B  \n24020 Colere (BG)  \nTel. 0346.54051 \ninfo@promoeventisport.it  \nwww.promoeventisport.it  \n  \nUfficio stampa PROMOEVENTI SPORT a cura di LDL COMeta \nvia Quinto Alpini\, 4 – 24124 Bergamo – Italy \nTel. +39(0)35.4534134 / Tel. +39(0)35.346525 \nPer informazioni alla stampa: \nGabriele CELERI \ngabriele.celeri@ldlcometa.it – mobile: +39 331.5985454 \n[/vc_column_text][/vc_column][/vc_row][vc_row][vc_column][vc_single_image image=”2627″ img_size=”full”][vc_single_image image=”2628″ img_size=”full”][/vc_column][/vc_row][vc_row css=”.vc_custom_1632315291531{padding-top: 50px !important;padding-bottom: 50px !important;}”][vc_column][vc_text_separator title=”Sponsor del comitato organizzatore” css=”.vc_custom_1632315300219{margin-bottom: 30px !important;}”][vc_row_inner][vc_column_inner][vc_single_image image=”2631″ img_size=”full” alignment=”center” onclick=”custom_link” img_link_target=”_blank” link=”https://www.scame.com/web/scame-italia”][/vc_column_inner][/vc_row_inner][vc_text_separator title=”Con il contributo di” css=”.vc_custom_1632315859186{margin-top: 50px !important;margin-bottom: 30px !important;}”][vc_row_inner css=”.vc_custom_1505133624196{margin-bottom: 50px !important;}”][vc_column_inner][vc_single_image image=”1733″ img_size=”medium” alignment=”center” onclick=”custom_link” img_link_target=”_blank” link=”http://www.regione.lombardia.it/wps/portal/istituzionale”][/vc_column_inner][/vc_row_inner][vc_text_separator title=”Con il patrocinio di” css=”.vc_custom_1632315838893{margin-top: 50px !important;margin-bottom: 30px !important;}”][vc_row_inner css=”.vc_custom_1505133624196{margin-bottom: 50px !important;}”][vc_column_inner width=”1/2″][vc_single_image image=”1731″ alignment=”center” onclick=”custom_link” img_link_target=”_blank” link=”http://www.comune.bergamo.it/servizi/notizie/notizie_homepage.aspx”][/vc_column_inner][vc_column_inner width=”1/2″][vc_single_image image=”1732″ alignment=”center” onclick=”custom_link” img_link_target=”_blank” link=”https://www.provincia.bergamo.it/Provpor/portalProcess.jsp”][/vc_column_inner][/vc_row_inner][vc_row_inner][vc_column_inner width=”1/4″][vc_single_image image=”2634″ img_size=”medium” add_caption=”yes” alignment=”center”][/vc_column_inner][vc_column_inner width=”1/2″][vc_single_image image=”2482″ img_size=”medium” alignment=”center” onclick=”custom_link” img_link_target=”_blank” link=”https://www.provincia.bergamo.it/Provpor/portalProcess.jsp”][/vc_column_inner][vc_column_inner width=”1/4″][vc_single_image image=”2635″ img_size=”medium” alignment=”center” onclick=”custom_link” img_link_target=”_blank”][/vc_column_inner][/vc_row_inner][/vc_column][/vc_row]
URL:https://www.promoeventisport.it/evento/ilombardia2022/
LOCATION:Bergamo\, Bergamo\, Italia
CATEGORIES:Gare ciclismo,Tutti gli eventi
ATTACH;FMTTYPE=image/jpeg:https://www.promoeventisport.it/wp-content/uploads/2022/09/Il-Lombardia-2022_Vincenzo-Nibali_©-LaPresse-Gian-Mattia-DAlberto-scaled.jpg
END:VEVENT
END:VCALENDAR